BEGIN:VCALENDAR
VERSION:2.0
PRODID:-//AudioTheme 3.0.2
BEGIN:VEVENT
UID:https://alisonmelville.com/wp/?post_type=audiotheme_gig&#038;p=236
URL:https://alisonmelville.com/shows/2017-11-30/
DTSTART;TZID=GMT:20171201T010000
SUMMARY:Tafelmusik: Four Weddings, a Funeral, and a Coronation
LOCATION:Trinity St. Paul's Centre\, 427 Bloor St W\, Toronto\, Ontario\, Canada\, M5S 1X7
END:VEVENT
END:VCALENDAR
