BEGIN:VCALENDAR
VERSION:2.0
PRODID:-//AudioTheme 3.0.2
BEGIN:VEVENT
UID:https://alisonmelville.com/wp/?post_type=audiotheme_gig&#038;p=241
URL:https://alisonmelville.com/shows/2017-12-09/
DTSTART;TZID=GMT:20171210T010000
SUMMARY:Toronto Consort: Navidad - A Spanish Christmas
LOCATION:Trinity St. Paul's Centre\, 427 Bloor St W\, Toronto\, Ontario\, Canada\, M5S 1X7
END:VEVENT
END:VCALENDAR
