BEGIN:VCALENDAR
VERSION:2.0
PRODID:-//AudioTheme 3.0.2
BEGIN:VEVENT
UID:urn:uuid:38317aa0-fca5-46ae-b1be-d13e65b2f1be
URL:https://alisonmelville.com/shows/2018-02-16/
DTSTART;TZID=GMT:20180216T000000
SUMMARY:Concordance of Sweet Sounds
DESCRIPTION:A music appreciation course on Baroque instrumental music\, given for Ryerson University's Life Institute. Seven sessions on Wednesday mornings\, 10 a.m. -12 noon\, from February 16/18 to March 30/18.
LOCATION:Chang School\, Ryerson University\, Toronto\, ON
END:VEVENT
END:VCALENDAR
