BEGIN:VCALENDAR
VERSION:2.0
PRODID:-//AudioTheme 3.0.2
BEGIN:VEVENT
UID:urn:uuid:90467392-3919-48cd-8f91-f7d46ce79f96
URL:https://alisonmelville.com/shows/2018-05-16/
DTSTART;TZID=GMT:20180516T233000
SUMMARY:Harry Potter and the Prisoner of Azkaban
DESCRIPTION:The Toronto Symphony Orchestra plays John Williams's score live to projection.
LOCATION:Sony Centre for the Performing Arts\, 1 Front Street East\, Toronto\, ON\, M5E 1B2
END:VEVENT
END:VCALENDAR
