BEGIN:VCALENDAR
VERSION:2.0
PRODID:-//AudioTheme 3.0.2
BEGIN:VEVENT
UID:urn:uuid:744c4617-3f69-48fa-beb5-4ccf634e112d
URL:https://alisonmelville.com/shows/2018-05-18/
DTSTART;TZID=GMT:20180518T233000
SUMMARY:Harry Potter and the Prisoner of Azkaban
DESCRIPTION:The Toronto Symphony Orchestra plays John Williams's score to film.
LOCATION:Sony Centre for the Performing Arts\, 1 Front Street East\, Toronto\, ON\, M5E 1B2
END:VEVENT
END:VCALENDAR
