BEGIN:VCALENDAR
VERSION:2.0
PRODID:-//AudioTheme 3.0.2
BEGIN:VEVENT
UID:urn:uuid:b6159ac1-f6a3-43a1-abd9-1669a7ce0245
URL:https://alisonmelville.com/shows/2018-05-19/
DTSTART;TZID=GMT:20180517T233000
SUMMARY:Harry Potter and the Prisoner of Azkaban
DESCRIPTION:The Toronto Symphony Orchestra plays John Williams's score\, live to projection.
LOCATION:Sony Centre for the Performing Arts\, 1 Front Street East\, Toronto\, ON\, M5E 1B2
END:VEVENT
END:VCALENDAR
