BEGIN:VCALENDAR
VERSION:2.0
PRODID:-//AudioTheme 3.0.2
BEGIN:VEVENT
UID:urn:uuid:33fa9ddf-8a65-4171-aec9-a8a461a63ef0
URL:https://alisonmelville.com/shows/2018-06-16/
DTSTART;TZID=GMT:20180616T233000
SUMMARY:Händel: Airs for the Theatre
DESCRIPTION:Instrumental music and airs from Händel's operas\, arranged in the 18th century - and in our own time - for winds and continuo.   Colin Savage\, chalumeau/recorder\; Alison Melville\, traverso/recorder\; John Abberger\, oboe\; Marco Cera\, oboe/oboe d/amore\; Dominic Teresi\, bassoon\; Paul Jenkins\, keyboards.
LOCATION:St. Thomas's Anglican Church\, 383 Huron St\, Toronto\, Ontario\, Canada\, M5S 2G5
END:VEVENT
END:VCALENDAR
