BEGIN:VCALENDAR
VERSION:2.0
PRODID:-//AudioTheme 3.0.2
BEGIN:VEVENT
UID:urn:uuid:3ac2b66d-6440-46ee-a4c2-5b3ef814cd51
URL:https://alisonmelville.com/shows/2018-08-03/
DTSTART;TZID=GMT:20180803T160000
SUMMARY:ACTA Recorder Quartet at the Library!
DESCRIPTION:Recorder quartets at lunchtime - a free concert!  Anne Massicotte\, Colin Savage\, Tatsuki Shimoda and Alison Melville\, recorders.
LOCATION:Metro Central Reference Library\, 789 Yonge St.\, Toronto\, Ontario\, Canada\, M4W 2G8
END:VEVENT
END:VCALENDAR
