BEGIN:VCALENDAR
VERSION:2.0
PRODID:-//AudioTheme 3.0.2
BEGIN:VEVENT
UID:urn:uuid:d69428cc-6a14-4d4d-bb02-6989a196ed88
URL:https://alisonmelville.com/shows/2018-10-19/
DTSTART;TZID=GMT:20181020T000000
SUMMARY:Frescobaldi & the Glories of Rome
DESCRIPTION:The Toronto Consort's 'season opener\,' featuring vocal and instrumental music of Frescobaldi\, Landi\, Caroso\, Palestrina and others\, accompanied by stunning projected imagery.
LOCATION:Trinity St. Paul's Centre\, 427 Bloor St W\, Toronto\, Ontario\, Canada\, M5S 1X7
END:VEVENT
END:VCALENDAR
