BEGIN:VCALENDAR
VERSION:2.0
PRODID:-//AudioTheme 3.0.2
BEGIN:VEVENT
UID:urn:uuid:95bd04d6-ab17-45c3-99d4-e6aad210d4e1
URL:https://alisonmelville.com/shows/2018-10-20/
DTSTART;TZID=GMT:20181021T000000
SUMMARY:Frescobaldi & the Glories of Rome
DESCRIPTION:The Toronto Consort's 'season opener\,' featuring vocal and instrumental music of Frescobaldi\, Landi\, Caroso\, Palestrina and others\, accompanied by stunning projected imagery.
LOCATION:Trinity St. Paul's Centre\, 427 Bloor St W\, Toronto\, Ontario\, Canada\, M5S 1X7
END:VEVENT
END:VCALENDAR
