BEGIN:VCALENDAR
VERSION:2.0
PRODID:-//AudioTheme 3.0.2
BEGIN:VEVENT
UID:urn:uuid:11c3b034-c1a8-438d-8789-add37e5a3b36
URL:https://alisonmelville.com/shows/2018-10-27/
DTSTART;TZID=GMT:20181027T233000
SUMMARY:Actéon/Pygmalion
DESCRIPTION:Opera Atelier presents a Baroque French double-bill - Charpentier's Actéon and Rameau's Pygmalion!
LOCATION:Elgin Theatre\, 189 Yonge St\, Toronto\, Ontario\, Canada\, M5B 1M4
END:VEVENT
END:VCALENDAR
