BEGIN:VCALENDAR
VERSION:2.0
PRODID:-//AudioTheme 3.0.2
BEGIN:VEVENT
UID:urn:uuid:4d17cbed-79bf-4eff-8cda-4d284a89c47f
URL:https://alisonmelville.com/shows/2018-10-28/
DTSTART;TZID=GMT:20181028T190000
SUMMARY:Actéon/Pygmalion
DESCRIPTION:Opera Atelier presents a Baroque French double-bill - Charpentier's Actéon and Rameau's Pygmalion!
LOCATION:Elgin Theatre\, 189 Yonge St\, Toronto\, Ontario\, Canada\, M5B 1M4
END:VEVENT
END:VCALENDAR
