BEGIN:VCALENDAR
VERSION:2.0
PRODID:-//AudioTheme 3.0.2
BEGIN:VEVENT
UID:urn:uuid:2123bc27-80ce-446a-8473-88f04a6ff39d
URL:https://alisonmelville.com/shows/2018-11-02/
DTSTART;TZID=GMT:20181102T233000
SUMMARY:Actéon/Pygmalion
DESCRIPTION:Opera Atelier presents a Baroque French double-bill - Charpentier's Actéon and Rameau's Pygmalion!
LOCATION:Elgin Theatre\, 189 Yonge St\, Toronto\, Ontario\, Canada\, M5B 1M4
END:VEVENT
END:VCALENDAR
