BEGIN:VCALENDAR
VERSION:2.0
PRODID:-//AudioTheme 3.0.2
BEGIN:VEVENT
UID:urn:uuid:ef7290e0-f9dc-440f-9800-913dd9b38410
URL:https://alisonmelville.com/shows/2018-11-03/
DTSTART;TZID=GMT:20181103T203000
SUMMARY:Actéon/Pygmalion
DESCRIPTION:Opera Atelier presents a Baroque French double-bill - Charpentier's Actéon and Rameau's Pygmalion!
LOCATION:Elgin Theatre\, 189 Yonge St\, Toronto\, Ontario\, Canada\, M5B 1M4
END:VEVENT
END:VCALENDAR
