BEGIN:VCALENDAR
VERSION:2.0
PRODID:-//AudioTheme 3.0.2
BEGIN:VEVENT
UID:urn:uuid:1a16abfe-dc54-4019-bf32-770979c32499
URL:https://alisonmelville.com/shows/2018-11-22/
DTSTART;TZID=GMT:20181123T010000
SUMMARY:Sound the Trumpet!
DESCRIPTION:Tafelmusik Baroque Orchestra presents Locatelli\, Corrette\, Rebel and J.S. Bach's Brandenburg Concerto 2.
LOCATION:Trinity St. Paul's Centre\, 427 Bloor St W\, Toronto\, Ontario\, Canada\, M5S 1X7
END:VEVENT
END:VCALENDAR
