BEGIN:VCALENDAR
VERSION:2.0
PRODID:-//AudioTheme 3.0.2
BEGIN:VEVENT
UID:urn:uuid:455604ba-3b08-411d-a1e7-2e68a030c92d
URL:https://alisonmelville.com/shows/2018-11-23-2/
DTSTART;TZID=GMT:20181124T010000
SUMMARY:Sound the Trumpet!
DESCRIPTION:Tafelmusik Baroque Orchestra presents Locatelli\, Corrette\, Rebel and J.S. Bach's Brandenburg Concerto 2.
LOCATION:Trinity St. Paul's Centre\, 427 Bloor St W\, Toronto\, Ontario\, Canada\, M5S 1X7
END:VEVENT
END:VCALENDAR
