BEGIN:VCALENDAR
VERSION:2.0
PRODID:-//AudioTheme 3.0.2
BEGIN:VEVENT
UID:urn:uuid:6053f3ec-d1fe-411f-9bde-1d0d38175328
URL:https://alisonmelville.com/shows/2018-11-24-2/
DTSTART;TZID=GMT:20181125T010000
SUMMARY:Sound the Trumpet!
DESCRIPTION:Tafelmusik Baroque Orchestra presents Locatelli\, Corrette\, Rebel and J.S. Bach's Brandenburg Concerto 2.
LOCATION:Trinity St. Paul's Centre\, 427 Bloor St W\, Toronto\, Ontario\, Canada\, M5S 1X7
END:VEVENT
END:VCALENDAR
