BEGIN:VCALENDAR
VERSION:2.0
PRODID:-//AudioTheme 3.0.2
BEGIN:VEVENT
UID:urn:uuid:b1bc9df0-e4af-4c97-a460-269212693015
URL:https://alisonmelville.com/shows/2018-11-24/
DTSTART;TZID=GMT:20181124T180000
SUMMARY:From Far Away, Nearby
DESCRIPTION:A concert situated around Northern Oracle\, an installation by artist Heather Hart. Traditional\, new and improvised music played by Arja Kastinen\, kantele\; Ben Grossman\, hurdy gurdy\; Alison Melville\, flutes & recorders.  Presented by the Gallery Players of Niagara.  
LOCATION:Rodman Hall Art Centre\, Brock University\, 109 St. Paul Crescent\, St. Catharines\, ON\, Canada\, L2S 1M3
END:VEVENT
END:VCALENDAR
