BEGIN:VCALENDAR
VERSION:2.0
PRODID:-//AudioTheme 3.0.2
BEGIN:VEVENT
UID:urn:uuid:d2308fb1-678f-472b-a9e9-6f1e2bea98a2
URL:https://alisonmelville.com/shows/2018-11-25-2/
DTSTART;TZID=GMT:20181125T203000
SUMMARY:Sound the Trumpet!
DESCRIPTION:Tafelmusik Baroque Orchestra presents Locatelli\, Corrette\, Rebel and J.S. Bach's Brandenburg Concerto 2.
LOCATION:Trinity St. Paul's Centre\, 427 Bloor St W\, Toronto\, Ontario\, Canada\, M5S 1X7
END:VEVENT
END:VCALENDAR
