BEGIN:VCALENDAR
VERSION:2.0
PRODID:-//AudioTheme 3.0.2
BEGIN:VEVENT
UID:urn:uuid:8e14a2f0-e609-4e64-8c29-d6efa4e46fee
URL:https://alisonmelville.com/shows/2018-11-25/
DTSTART;TZID=GMT:20181125T000000
SUMMARY:Far Away, Nearby
DESCRIPTION:Solos\, duos and trios\; improvisations\, new creations and traditional music\, with ARJA KASTINEN\, kantele\; BEN GROSSMAN\, vielle à roue/percussion\; ALISON MELVILLE\, flutes/recorders.   Join us for a relaxed evening in the Main Hall of Toronto's Tranzac Club\, have a refreshing beverage if you wish\, and enjoy the shimmering\, pungent and evocative sound world of these unexpectedly collegial instruments.
LOCATION:Tranzac Club of Toronto\, 292 Brunswick Avenue\, Toronto\, ON\, Canada\, M5S 2M7
END:VEVENT
END:VCALENDAR
