BEGIN:VCALENDAR
VERSION:2.0
PRODID:-//AudioTheme 3.0.2
BEGIN:VEVENT
UID:urn:uuid:ef555802-cbd4-49e6-8e82-01a144a76244
URL:https://alisonmelville.com/shows/2018-12-14/
DTSTART;TZID=GMT:20181215T010000
SUMMARY:Praetorius Christmas Vespers
DESCRIPTION:Christmas Vespers as it might have been heard under the direction of Michael Praetorius\, with singers\, violins\, recorders\, cornetti\, sackbuts and a continuo band. One of Toronto's beloved Christmas traditions returns!
LOCATION:Trinity St. Paul's Centre\, 427 Bloor St W\, Toronto\, Ontario\, Canada\, M5S 1X7
END:VEVENT
END:VCALENDAR
