BEGIN:VCALENDAR
VERSION:2.0
PRODID:-//AudioTheme 3.0.2
BEGIN:VEVENT
UID:urn:uuid:5fc42916-c430-4fb6-b030-f6f73dfd1db0
URL:https://alisonmelville.com/shows/2018-12-15/
DTSTART;TZID=GMT:20181215T130000
SUMMARY:Praetorius Christmas Vespers
DESCRIPTION:Christmas Vespers as it might have been heard under the direction of Michael Praetorius\, with singers\, violins\, recorders\, cornetti\, sackbuts and a continuo band. One of Toronto's beloved Christmas traditions returns!
LOCATION:Trinity St. Paul's Centre\, 427 Bloor St W\, Toronto\, Ontario\, Canada\, M5S 1X7
END:VEVENT
END:VCALENDAR
