BEGIN:VCALENDAR
VERSION:2.0
PRODID:-//AudioTheme 3.0.2
BEGIN:VEVENT
UID:urn:uuid:33de6c80-26bf-499d-9a07-cab098dae43a
URL:https://alisonmelville.com/shows/2019-01-26/
DTSTART;TZID=GMT:20190127T003000
SUMMARY:Baroque for Burns
DESCRIPTION:Celebrate Robbie Burns's birthday weekend with music of Oswald\, Munro\, O'Carolan\, Gow\, Gunn and others.  Julia Seager-Scott\, Baroque triple harp & clarsach\; Laura Jones\, Baroque cello & viola da gamba\; Alison Melville\, traverso & recorder.
LOCATION:Heliconian Hall\, 35 Hazelton Ave\, Toronto\, Ontario\, Canada\, M5R 1M6
END:VEVENT
END:VCALENDAR
