BEGIN:VCALENDAR
VERSION:2.0
PRODID:-//AudioTheme 3.0.2
BEGIN:VEVENT
UID:urn:uuid:baa51f35-4a70-40a8-8571-81b068703e3f
URL:https://alisonmelville.com/shows/2019-02-16/
DTSTART;TZID=GMT:20190217T010000
SUMMARY:Toronto Consort: Love, Remixed
DESCRIPTION:A program of 20th- and 21st-century music written for early instruments and voices\, including James Rolfe's 'Breathe' and David Fallis's 'Eurydice Variations\,' and some surprise reinterpretations of choice medieval repertoire.
LOCATION:Trinity St. Paul's Centre\, 427 Bloor St W\, Toronto\, Ontario\, Canada\, M5S 1X7
END:VEVENT
END:VCALENDAR
