BEGIN:VCALENDAR
VERSION:2.0
PRODID:-//AudioTheme 3.0.2
BEGIN:VEVENT
UID:urn:uuid:4f422c3a-4247-4ae6-9a9a-9377ed2d6aac
URL:https://alisonmelville.com/shows/2019-03-02/
DTSTART;TZID=GMT:20190303T003000
SUMMARY:A Circle of Flutes
DESCRIPTION:North Wind Concerts presents an evening of music and discussion.  With Dora Wang\, dizi & xun\; Ernesto Cardenas\, quena & sikus\; Kianoush Khalilian\, ney\; Deep Ganguly\, bansuri\; Alison Melville\, traverso & recorder.
LOCATION:Heliconian Hall\, 35 Hazelton Ave\, Toronto\, Ontario\, Canada\, M5R 1M6
END:VEVENT
END:VCALENDAR
