BEGIN:VCALENDAR
VERSION:2.0
PRODID:-//AudioTheme 3.0.2
BEGIN:VEVENT
UID:urn:uuid:c7c5fcc7-bd8d-4ca7-bc55-9bf65cebf1c4
URL:https://alisonmelville.com/shows/2019-05-04-2/
DTSTART;TZID=GMT:20190504T170000
SUMMARY:Art Exhibition - Opening Reception
DESCRIPTION:A joint show of paintings by Joanne Shenfeld and prints by Alison Melville will be on display at the Toronto Heliconian Club from May 2 - 28\, 2019.   Join us at our opening reception on Saturday May 4/19 from 1-4 p.m.
LOCATION:Heliconian Hall\, 35 Hazelton Ave\, Toronto\, Ontario\, Canada\, M5R 1M6
END:VEVENT
END:VCALENDAR
