BEGIN:VCALENDAR
VERSION:2.0
PRODID:-//AudioTheme 3.0.2
BEGIN:VEVENT
UID:urn:uuid:86311d2c-e720-4c76-b1d5-85bb6d4b991c
URL:https://alisonmelville.com/shows/2019-05-04/
DTSTART;TZID=GMT:20190505T000000
SUMMARY:Toronto Consort: NIght Games
DESCRIPTION:A spirited and irreverent evening of madrigal comedy with singers\, players\, dancers and actors. Music by Vecchi\, Banchieri and others.
LOCATION:Trinity St. Paul's Centre\, 427 Bloor St W\, Toronto\, Ontario\, Canada\, M5S 1X7
END:VEVENT
END:VCALENDAR
