BEGIN:VCALENDAR
VERSION:2.0
PRODID:-//AudioTheme 3.0.2
BEGIN:VEVENT
UID:urn:uuid:7e23ebbb-63bf-4f9c-aeee-010a22e4ee67
URL:https://alisonmelville.com/shows/2019-05-05/
DTSTART;TZID=GMT:20190505T193000
SUMMARY:Toronto Consort: Night Games
DESCRIPTION:A spirited and irreverent evening of madrigal comedy with singers\, players\, dancers and actors. Music by Vecchi\, Banchieri and others.
LOCATION:Trinity St. Paul's Centre\, 427 Bloor St W\, Toronto\, Ontario\, Canada\, M5S 1X7
END:VEVENT
END:VCALENDAR
