BEGIN:VCALENDAR
VERSION:2.0
PRODID:-//AudioTheme 3.0.2
BEGIN:VEVENT
UID:urn:uuid:eb168ee0-9cf0-4da7-bce5-ab0053a27386
URL:https://alisonmelville.com/shows/2019-05-10/
DTSTART;TZID=GMT:20190516T233000
SUMMARY:Sopratutto Vivaldi!
DESCRIPTION:A flourish of Baroque musical brilliance\, in trio sonatas\, quartets and chamber concertos by Vivaldi and contributions from his northern European neighbours Telemann and Fasch. Marco Cera\, baroque oboe\; Alison Melville\, recorder\, traverso\; Cristina Zacharias\, baroque violin\; Dominic Teresi\, baroque bassoon\; and Stefano Demicheli\, harpsichord. Presented by North Wind Concerts\, supported by the Istituto Italiano di Cultura\, Toronto.
LOCATION:Heliconian Hall\, 35 Hazelton Ave\, Toronto\, Ontario\, Canada\, M5R 1M6
END:VEVENT
END:VCALENDAR
