BEGIN:VCALENDAR
VERSION:2.0
PRODID:-//AudioTheme 3.0.2
BEGIN:VEVENT
UID:urn:uuid:df45dc36-f9d2-4a8b-91f3-51b926f8f3af
URL:https://alisonmelville.com/shows/2019-10-05/
DTSTART;TZID=GMT:20191005T233000
SUMMARY:Academy Concert Series - Family Has Your Bach
DESCRIPTION:Chamber music of J.S. and C.P.E. Bach\, G.P. Telemann and others\, with Kerri McGonigle\, cello\; Emily Eng\, violin\, viola\; Christopher Bagan\, harpsichord.  Includes the trio for bass recorder\, viola and b.c. by C.P.E. Bach!
LOCATION:Eastminster United Church\, 310 Danforth Avenue\, Toronto\, ON\, Canada\, M4K 1N6
END:VEVENT
END:VCALENDAR
