BEGIN:VCALENDAR
VERSION:2.0
PRODID:-//AudioTheme 3.0.2
BEGIN:VEVENT
UID:urn:uuid:880f919e-eebb-4f6b-a878-0bb9c55c5891
URL:https://alisonmelville.com/shows/2019-10-31/
DTSTART;TZID=GMT:20191031T233000
SUMMARY:Opera Atelier: Mozart's Don Giovanni
DESCRIPTION:Opera Atelier with Tafelmusik Baroque Orchestra.
LOCATION:Ed Mirvish Theatre\, 244 Victoria Street\, Toronto\, ON\, Canada
END:VEVENT
END:VCALENDAR
