BEGIN:VCALENDAR
VERSION:2.0
PRODID:-//AudioTheme 3.0.2
BEGIN:VEVENT
UID:urn:uuid:aa4d79f6-92ab-4003-8634-1041e2dabc22
URL:https://alisonmelville.com/shows/2019-11-02/
DTSTART;TZID=GMT:20191102T233000
SUMMARY:Opera Atelier: Mozart's Don Giovanni
DESCRIPTION:Opera Atelier with Tafelmusik Baroque Orchestra.
LOCATION:Ed Mirvish Theatre\, 244 Victoria Street\, Toronto\, ON\, Canada
END:VEVENT
END:VCALENDAR
