BEGIN:VCALENDAR
VERSION:2.0
PRODID:-//AudioTheme 3.0.2
BEGIN:VEVENT
UID:urn:uuid:9ed7d7fe-5de8-4f34-a70a-71cb16b946df
URL:https://alisonmelville.com/shows/2019-11-03/
DTSTART;TZID=GMT:20191103T200000
SUMMARY:Opera Atelier: Mozart's Don Giovanni
DESCRIPTION:Opera Atelier with Tafelmusik Baroque Orchestra.
LOCATION:Ed Mirvish Theatre\, 244 Victoria Street\, Toronto\, ON\, Canada
END:VEVENT
END:VCALENDAR
