BEGIN:VCALENDAR
VERSION:2.0
PRODID:-//AudioTheme 3.0.2
BEGIN:VEVENT
UID:urn:uuid:c1fc0440-992f-4821-b988-01aa48cc30f3
URL:https://alisonmelville.com/shows/2019-11-08/
DTSTART;TZID=GMT:20191109T003000
SUMMARY:Opera Atelier: Mozart's Don Giovanni
DESCRIPTION:Opera Atelier with Tafelmusik Baroque Orchestra.
LOCATION:Ed Mirvish Theatre\, 244 Victoria Street\, Toronto\, ON\, Canada
END:VEVENT
END:VCALENDAR
