BEGIN:VCALENDAR
VERSION:2.0
PRODID:-//AudioTheme 3.0.2
BEGIN:VEVENT
UID:urn:uuid:fdea8bf7-f1b4-46a3-a1ec-f5df41de95a7
URL:https://alisonmelville.com/shows/2019-11-09/
DTSTART;TZID=GMT:20191109T213000
SUMMARY:Opera Atelier: Mozart's Don Giovanni
DESCRIPTION:Opera Atelier with Tafelmusik Baroque Orchestra.
LOCATION:Ed Mirvish Theatre\, 244 Victoria Street\, Toronto\, ON\, Canada
END:VEVENT
END:VCALENDAR
