BEGIN:VCALENDAR
VERSION:2.0
PRODID:-//AudioTheme 3.0.2
BEGIN:VEVENT
UID:urn:uuid:a708c965-261e-4592-a21b-59967e2288a5
URL:https://alisonmelville.com/shows/2019-12-14/
DTSTART;TZID=GMT:20191215T010000
SUMMARY:Toronto Consort: Schütz's Christmas Story
DESCRIPTION:Schütz's glorious music\, and more\, with guest soloists including Charles Daniels.
LOCATION:Trinity St. Paul's Centre\, 427 Bloor St W\, Toronto\, Ontario\, Canada\, M5S 1X7
END:VEVENT
END:VCALENDAR
