BEGIN:VCALENDAR
VERSION:2.0
PRODID:-//AudioTheme 3.0.2
BEGIN:VEVENT
UID:urn:uuid:71a0fa55-03cf-4db3-a422-fc26589e846a
URL:https://alisonmelville.com/shows/2020-03-06/
DTSTART;TZID=GMT:20200307T010000
SUMMARY:Toronto Consort: Crossing the Channel
DESCRIPTION:English and French music from the 15th century\, with guest director Scott Metcalfe.
LOCATION:Trinity St. Paul's Centre\, 427 Bloor St W\, Toronto\, Ontario\, Canada\, M5S 1X7
END:VEVENT
END:VCALENDAR
