BEGIN:VCALENDAR
VERSION:2.0
PRODID:-//AudioTheme 3.0.2
BEGIN:VEVENT
UID:urn:uuid:c8c01cc5-87cd-4de1-bd5b-b6b29a9e6933
URL:https://alisonmelville.com/shows/2020-03-07/
DTSTART;TZID=GMT:20200308T010000
SUMMARY:Toronto Consort: Crossing the Channel
DESCRIPTION:English and French music from the 15th century\, with guest director Scott Metcalfe.
LOCATION:Trinity St. Paul's Centre\, 427 Bloor St W\, Toronto\, Ontario\, Canada\, M5S 1X7
END:VEVENT
END:VCALENDAR
