BEGIN:VCALENDAR
VERSION:2.0
PRODID:-//AudioTheme 3.0.2
BEGIN:VEVENT
UID:urn:uuid:be337cf0-9413-4595-a456-40f99d329a72
URL:https://alisonmelville.com/shows/2020-03-08/
DTSTART;TZID=GMT:20200308T180000
SUMMARY:Gallery Players of Niagara - Bach on Turtle's Back - Death
DESCRIPTION:Music of J.S. Bach\, with dancer Brian Solomon\, Julia Wedman (violin)\, Sinead White (soprano)\, Asitha Tennekoon (tenor)\, Jessica Wright (mezzo soprano)\, Keith Lam (baritone)\, Michelle Odorico (violin)\, Patrick Jordan (viola)\, Margaret Gay (cello)\, Maho Sone (keyboard).
LOCATION:Recital Hall\, FirstOntario Performing Arts Centre\, 250 St. Pauls Street\, St. Catharines\, ON\, Canada\, L2R 3M2
END:VEVENT
END:VCALENDAR
