BEGIN:VCALENDAR
VERSION:2.0
PRODID:-//AudioTheme 3.0.2
BEGIN:VEVENT
UID:urn:uuid:45899dcd-4f7b-44c3-a106-1f395832518f
URL:https://alisonmelville.com/shows/2020-04-11/
DTSTART;TZID=GMT:20200411T233000
SUMMARY:Covid-CX - Opera Atelier: Händel The Resurrection
LOCATION:Koerner Hall\, Royal Conservatory of Music\, 273 Bloor St. W.\, Toronto\, ON\, Canada
END:VEVENT
END:VCALENDAR
