BEGIN:VCALENDAR
VERSION:2.0
PRODID:-//AudioTheme 3.0.2
BEGIN:VEVENT
UID:urn:uuid:6d59ddf1-929c-47c9-966b-8cf48b507f59
URL:https://alisonmelville.com/shows/2020-04-16/
DTSTART;TZID=GMT:20200416T233000
SUMMARY:Covid-CX - Opera Atelier: Händel The Resurrection
LOCATION:Koerner Hall\, 273 Bloor St W\, Toronto\, Ontario\, Canada\, M5S 1V6
END:VEVENT
END:VCALENDAR
