BEGIN:VCALENDAR
VERSION:2.0
PRODID:-//AudioTheme 3.0.2
BEGIN:VEVENT
UID:urn:uuid:bb34b133-10f7-496b-9841-89c3b0564f79
URL:https://alisonmelville.com/shows/2020-04-17/
DTSTART;TZID=GMT:20200417T233000
SUMMARY:Covid-CX - Opera Atelier: Händel The Resurrection
LOCATION:Koerner Hall\, 273 Bloor St W\, Toronto\, Ontario\, Canada\, M5S 1V6
END:VEVENT
END:VCALENDAR
