BEGIN:VCALENDAR
VERSION:2.0
PRODID:-//AudioTheme 3.0.2
BEGIN:VEVENT
UID:urn:uuid:3e73a075-a3c6-4023-8b61-c372d56c3f53
URL:https://alisonmelville.com/shows/2020-04-18/
DTSTART;TZID=GMT:20200418T203000
SUMMARY:Covid-CX - Opera Atelier: Händel The Resurrection
LOCATION:Koerner Hall\, 273 Bloor St W\, Toronto\, Ontario\, Canada\, M5S 1V6
END:VEVENT
END:VCALENDAR
