BEGIN:VCALENDAR
VERSION:2.0
PRODID:-//AudioTheme 3.0.2
BEGIN:VEVENT
UID:urn:uuid:4500dc79-b00e-4d46-a42d-f15f0ac56815
URL:https://alisonmelville.com/shows/2020-04-19/
DTSTART;TZID=GMT:20200419T190000
SUMMARY:Covid-CX - Opera Atelier: Händel The Resurrection
LOCATION:Koerner Hall\, Royal Conservatory of Music\, 273 Bloor St. W.\, Toronto\, ON\, Canada
END:VEVENT
END:VCALENDAR
