BEGIN:VCALENDAR
VERSION:2.0
PRODID:-//AudioTheme 3.0.2
BEGIN:VEVENT
UID:urn:uuid:7433ffe4-2193-4266-b95a-1320080e38fe
URL:https://alisonmelville.com/shows/2020-05-08/
DTSTART;TZID=GMT:20200509T000000
SUMMARY:Covid-CX - Toronto Consort: Fellowship of Creatures
DESCRIPTION:A musical celebration of Earth's creatures\, from First Nations and European perspectives. The Toronto Consort with Shirley Hay\, Marilyn George and other guests.
LOCATION:Trinity St. Paul's Centre\, 427 Bloor St W\, Toronto\, Ontario\, Canada\, M5S 1X7
END:VEVENT
END:VCALENDAR
