BEGIN:VCALENDAR
VERSION:2.0
PRODID:-//AudioTheme 3.0.2
BEGIN:VEVENT
UID:urn:uuid:ad9067e9-91ed-495f-9b75-2bd0fbe9078e
URL:https://alisonmelville.com/shows/2020-05-10/
DTSTART;TZID=GMT:20200510T193000
SUMMARY:Covid-CX - Toronto Consort: Fellowship of Creatures
DESCRIPTION:A celebration of Earth's creatures\, from First Nations and European perspectives. The Toronto Consort with Shirley Hay\, Marilyn George and other guests.
LOCATION:Trinity St. Paul's Centre\, 427 Bloor St W\, Toronto\, Ontario\, Canada\, M5S 1X7
END:VEVENT
END:VCALENDAR
