BEGIN:VCALENDAR
VERSION:2.0
PRODID:-//AudioTheme 3.0.2
BEGIN:VEVENT
UID:urn:uuid:271be064-0aff-48b8-b413-d6a020595e15
URL:https://alisonmelville.com/shows/2020-05-30/
DTSTART;TZID=GMT:20200530T223000
SUMMARY:Covid-CX - Viva! Youth Singers
DESCRIPTION:A celebration of Viva! Youth Choirs\, with a program of five new pieces especially commissioned for this event.
LOCATION:Trinity St. Paul's Centre\, 427 Bloor St W\, Toronto\, Ontario\, Canada\, M5S 1X7
END:VEVENT
END:VCALENDAR
