BEGIN:VCALENDAR
VERSION:2.0
PRODID:-//AudioTheme 3.0.2
BEGIN:VEVENT
UID:urn:uuid:8492df80-f195-47d1-bfbe-e83527ba772f
URL:https://alisonmelville.com/shows/2022-11-04/
DTSTART;TZID=GMT:20221104T000000
SUMMARY:John Blow's Venus & Adonis
DESCRIPTION:The gifted students from The Glenn Gould School’s vocal program present their annual fall opera. Peter Tiefenbach returns as Music Director and Derek Boyes directs. Written in 1683 for the court of King Charles II\, this is the earliest known English opera\, based on the classical myth of Venus and Adonis\, which was also the basis for Shakespeare’s poem Venus and Adonis.
LOCATION:Mazzoleni Hall\, 273 Bloor St W Toronto\, Ontario M5S 1V6 Canada
END:VEVENT
END:VCALENDAR
