BEGIN:VCALENDAR
VERSION:2.0
PRODID:-//AudioTheme 3.0.2
BEGIN:VEVENT
UID:urn:uuid:47d0b607-7b8a-4426-8833-cd9dc0e0006f
URL:https://alisonmelville.com/shows/2022-11-05/
DTSTART;TZID=GMT:20221106T000000
SUMMARY:John Blow's Venus & Adonis
DESCRIPTION:The gifted students from The Glenn Gould School’s vocal program present their annual fall opera. Peter Tiefenbach returns as Music Director and Derek Boyes directs. Written in 1683 for the court of King Charles II\, this is the earliest known English opera\, based on the classical myth of Venus and Adonis\, which was also the basis for Shakespeare’s poem Venus and Adonis.
LOCATION:Koerner Hall\, 273 Bloor St W\, Toronto\, Ontario\, Canada\, M5S 1V6
END:VEVENT
END:VCALENDAR
