BEGIN:VCALENDAR
VERSION:2.0
PRODID:-//AudioTheme 3.0.2
BEGIN:VEVENT
UID:urn:uuid:6c966b2b-1692-4dd6-9f33-4633496c8701
URL:https://alisonmelville.com/shows/2022-11-10-2/
DTSTART;TZID=GMT:20221110T000000
SUMMARY:FIMTE:
DESCRIPTION:Mini-concert and instrumental introductions of recorders\, flute\, seljefløyte\, lute and Baroque guitar.
LOCATION:Centro FIMTE\, Calle Joaquin Escobar\, Garrucha\, \, Spain
END:VEVENT
END:VCALENDAR
